BEGIN:VCALENDAR
VERSION:2.0
PRODID:-//OUKEJ divadelní spolek - ECPv6.15.13//NONSGML v1.0//EN
CALSCALE:GREGORIAN
METHOD:PUBLISH
X-ORIGINAL-URL:https://ds-oukej.cz
X-WR-CALDESC:Akce na OUKEJ divadelní spolek
REFRESH-INTERVAL;VALUE=DURATION:PT1H
X-Robots-Tag:noindex
X-PUBLISHED-TTL:PT1H
BEGIN:VTIMEZONE
TZID:Europe/Prague
BEGIN:DAYLIGHT
TZOFFSETFROM:+0100
TZOFFSETTO:+0200
TZNAME:CEST
DTSTART:20220327T010000
END:DAYLIGHT
BEGIN:STANDARD
TZOFFSETFROM:+0200
TZOFFSETTO:+0100
TZNAME:CET
DTSTART:20221030T010000
END:STANDARD
BEGIN:DAYLIGHT
TZOFFSETFROM:+0100
TZOFFSETTO:+0200
TZNAME:CEST
DTSTART:20230326T010000
END:DAYLIGHT
BEGIN:STANDARD
TZOFFSETFROM:+0200
TZOFFSETTO:+0100
TZNAME:CET
DTSTART:20231029T010000
END:STANDARD
BEGIN:DAYLIGHT
TZOFFSETFROM:+0100
TZOFFSETTO:+0200
TZNAME:CEST
DTSTART:20240331T010000
END:DAYLIGHT
BEGIN:STANDARD
TZOFFSETFROM:+0200
TZOFFSETTO:+0100
TZNAME:CET
DTSTART:20241027T010000
END:STANDARD
BEGIN:DAYLIGHT
TZOFFSETFROM:+0100
TZOFFSETTO:+0200
TZNAME:CEST
DTSTART:20250330T010000
END:DAYLIGHT
BEGIN:STANDARD
TZOFFSETFROM:+0200
TZOFFSETTO:+0100
TZNAME:CET
DTSTART:20251026T010000
END:STANDARD
END:VTIMEZONE
BEGIN:VEVENT
DTSTART;TZID=Europe/Prague:20241201T160000
DTEND;TZID=Europe/Prague:20241201T170000
DTSTAMP:20260424T232704
CREATED:20241121T150938Z
LAST-MODIFIED:20241202T090240Z
UID:2489-1733068800-1733072400@ds-oukej.cz
SUMMARY:Z pohádky do pohádky
DESCRIPTION:Neslyšící herečky Veronika Slámová a Dagmar Máliková vás zvou na společné putování \npo klasických dětských pohádkách. Má to háček! Průběh této divadelní inscenace totiž máte v rukou vy! \nZa pomoci hodu kostkou rozhodnou sami diváci\, které čtyři pohádky z šesti připravených se budou hrát. Jedná se o známé pohádky\, jako je například O veliké řepě\, Hrnečku vař!\, Červená Karkulka a další. Ale nečekejte tradiční činohru. Pohádky jsou hrány za využití prvků pohybového divadla a českého znakového jazyka\, s živým hudebním a zvukovým doprovodem. \nVhodné pro všechny věkové kategorie\, od 4 do 99 let. \nDélka představení je 50 min. \nPřidejte se do události na Facebooku a rezervujte si lístky na adrese: barka@divadlobarka.cz \n 
URL:https://ds-oukej.cz/detail-akce/z-pohadky-do-pohadky-8/
LOCATION:Divadlo Barka\, Svatopluka Čecha 1405/35a\, Brno\, 612 00\, Česká republika
CATEGORIES:Uplynulé
END:VEVENT
BEGIN:VEVENT
DTSTART;TZID=Europe/Prague:20241129T170000
DTEND;TZID=Europe/Prague:20241129T180000
DTSTAMP:20260424T232704
CREATED:20241107T143631Z
LAST-MODIFIED:20241202T090226Z
UID:2463-1732899600-1732903200@ds-oukej.cz
SUMMARY:Sova Očko - premiéra
DESCRIPTION:Divadelní spolek OUKEJ vás srdečně zve na premiéru nové inscenace pro děti. \nPříběh o malé sově\, která se rozhodla\, že už nebude obyčejným nočním ptákem\, ale denní sovou vám zahrají herečky Divadelního spolku OUKEJ ve spolupráci se studenty Ateliéru divadlo a výchova pro Neslyšící na Divadelní fakultě JAMU. \nPohádka je hrána v českém a českém znakovém jazyce tak\, aby porozuměl opravdu každý. V pohádce se nejen mluví oběma jazyky\, tedy mluví a znakuje\, ale i zpívá v obou jazycích. \nMimo sovičky uvidíte i spoustu dalších lesních zvířátek\, ale i měsíček. \n Scénář\, režii\, dramaturgii a scénografii této inscenace pro Divadelní spolek OUKEJ připravila Lada Orešnik\, neslyšící umělkyně\, režisérka\, lektorka žijící ve Slovinsku a zároveň absolventka výše zmíněného Ateliéru divadlo a výchova pro Neslyšící. \nKnižní předlohou pro tuto inscenaci je kniha Sovica Oka od slovinské spisovatelky Svetlany Makarovič. \nA zda se sově Očko její přání vyplní můžete zjistit na premiéře v pátek 29. 11. 2024 od 17 hod v divadle BARKA v Brně. \nPro děti od 3 let. \nTím\, že má Inscenace za cíl být srozumitelná všem a propojovat svět slyšících a neslyšících\, je vhodná pro všechny věkové kategorie. \nDélka inscenace je 60 minut. \nVstupné 200 Kč. \nLístky můžete rezervovat na rezervace@ds-oukej.cz. \n  \n \nInscenaci uvádí Divadelní spolek OUKEJ v roce 2024 za spoluúčasti EU prostřednictvím NPO a Ministerstva kultury a finanční podpory statutárního města Brna.
URL:https://ds-oukej.cz/detail-akce/2463/
LOCATION:Divadlo Barka\, Svatopluka Čecha 1405/35a\, Brno\, 612 00\, Česká republika
CATEGORIES:Uplynulé
END:VEVENT
BEGIN:VEVENT
DTSTART;TZID=Europe/Prague:20241129T100000
DTEND;TZID=Europe/Prague:20241129T110000
DTSTAMP:20260424T232704
CREATED:20241107T142936Z
LAST-MODIFIED:20241202T090214Z
UID:2456-1732874400-1732878000@ds-oukej.cz
SUMMARY:Sova Očko - předpremiéra
DESCRIPTION:Divadelní spolek OUKEJ vás srdečně zve na předpremiéru nové inscenace pro děti. \nPříběh o malé sově\, která se rozhodla\, že už nebude obyčejným nočním ptákem\, ale denní sovou vám zahrají herečky Divadelního spolku OUKEJ ve spolupráci se studenty Ateliéru divadlo a výchova pro Neslyšící na Divadelní fakultě JAMU. \nPohádka je hrána v českém a českém znakovém jazyce tak\, aby porozuměl opravdu každý. V pohádce se nejen mluví oběma jazyky\, tedy mluví a znakuje\, ale i zpívá v obou jazycích. \nMimo sovičky uvidíte i spoustu dalších lesních zvířátek\, ale i měsíček. \n Scénář\, režii\, dramaturgii a scénografii této inscenace pro Divadelní spolek OUKEJ připravila Lada Orešnik\, neslyšící umělkyně\, režisérka\, lektorka žijící ve Slovinsku a zároveň absolventka výše zmíněného Ateliéru divadlo a výchova pro Neslyšící. \nKnižní předlohou pro tuto inscenaci je kniha Sovica Oka od slovinské spisovatelky Svetlany Makarovič. \nA zda se sově Očko její přání vyplní můžete zjistit na předpremiéře v pátek 29. 11. 2024 od 10 hod v divadle BARKA v Brně. \nPředpremiéra je vhodná pro skupiny mateřských škol a 1. až 2. třídy základních škol. \nV případě zájmu napište na divadlo.oukej@ds-oukej.cz. \nPředpremiéra je zatím přístupná i pro veřejnost lístky můžete rezervovat na rezervace@ds-oukej.cz.  \nPro děti od 3 let. \nTím\, že má Inscenace za cíl být srozumitelná všem a propojovat svět slyšících a neslyšících\, je vhodná pro všechny věkové kategorie. \nDélka inscenace je 60 minut. \n  \n \nInscenaci uvádí Divadelní spolek OUKEJ v roce 2024 za spoluúčasti EU prostřednictvím NPO a Ministerstva kultury a finanční podpory statutárního města Brna.
URL:https://ds-oukej.cz/detail-akce/sova-ocko-predpremiera/
LOCATION:Divadlo Barka\, Svatopluka Čecha 1405/35a\, Brno\, 612 00\, Česká republika
CATEGORIES:Uplynulé
END:VEVENT
BEGIN:VEVENT
DTSTART;TZID=Europe/Prague:20241122T190000
DTEND;TZID=Europe/Prague:20241122T190000
DTSTAMP:20260424T232704
CREATED:20241121T150700Z
LAST-MODIFIED:20241125T070125Z
UID:2482-1732302000-1732302000@ds-oukej.cz
SUMMARY:Hrdinky?! ve Frýdku-Místku
DESCRIPTION:Hrdinky?! zavítají do Frýdku – Místku! Herečky Šárka Šildová a Veronika Slámová zahrají inscenaci\, která pojednává o životě Helen Keller a Anne Sullivan.  \nRezervujte si včas své vstupenky. \n 
URL:https://ds-oukej.cz/detail-akce/hrdinky-ve-frydku-mistku/
LOCATION:Kino Vlast\, Hlavní třída 112\, Frýdek - Místek
CATEGORIES:Uplynulé
END:VEVENT
BEGIN:VEVENT
DTSTART;TZID=Europe/Prague:20241119T080000
DTEND;TZID=Europe/Prague:20241119T180000
DTSTAMP:20260424T232704
CREATED:20241102T050952Z
LAST-MODIFIED:20250127T071352Z
UID:2628-1732003200-1732039200@ds-oukej.cz
SUMMARY:Knižní představení pro seniory – Dobrovolnické centrum ADRA
DESCRIPTION:Divadelní spolek OUKEJ vás srdečně zve na interaktivní zážitek: Knižní představení a navazující workshop. Tato akce je pojata jako mezigenerační setkání pro seniory a veřejnost. \nKnižní představení Kocour v Botách odehraje neslyšící herečka Veronika Slámová\, která následně se svou slyšící kolegyní Kristýnou Pavlů povede dva navazující workshopy. Během workshopů se můžete těšit na různé aktivity které podpoří vaši náladu\, motoriku i kreativitu. \nVstupné dobrovolné. \nProjekt Kniha jako divadlo pro seniory je realizován za finanční podpory statutárního města Brna. \n 
URL:https://ds-oukej.cz/detail-akce/knizni-predstaveni-pro-seniory-dobrovolnicke-centrum-adra/
LOCATION:Dobrovolnické centrum ADRA Brno\, Lidická 11\, Brno\, Jihomoravský kraj\, 60200\, Czech Republic
CATEGORIES:Uplynulé
END:VEVENT
BEGIN:VEVENT
DTSTART;TZID=Europe/Prague:20241019T080000
DTEND;TZID=Europe/Prague:20241019T210000
DTSTAMP:20260424T232704
CREATED:20241107T142312Z
LAST-MODIFIED:20241121T061315Z
UID:2448-1729324800-1729371600@ds-oukej.cz
SUMMARY:Zločin v šantánu
DESCRIPTION:Zveme vás na premiéru inscenace s názvem Zločin v šantánu! \nPotemnělý večer v šantánu. Zpěvačka svým půvabem ohromuje všechny v sále. Jejímu kouzlu podléhá i ministr spravedlnosti. Na krku umělkyně se dnes má houpat skvostný náhrdelník\, ale…  \nSatirický detektivní příběh filmu Zločin v šantánu (1968) z dílny J. Suchého\, J. Šlitra\, J. Škvoreckého a J. Menzela ožívá v Divadle BARKA. A to by nebylo Divadlo BARKA\, aby tato česká divadelní premiéra nebyla v něčem netradiční. K 30. výročí existence této brněnské scény ji totiž nastudovaly soubory angažující vozíčkáře (Divadlo Járy Pokojského)\, nevidomé (Divadélko Fortel) a neslyšící (Divadelní spolek OUKEJ a tlumočníci z Hands Dance). \nRezervace na zlocin@vidurius.cz. \n 
URL:https://ds-oukej.cz/detail-akce/zlocin-v-santanu/
LOCATION:Divadlo Barka\, Svatopluka Čecha 1405/35a\, Brno\, 612 00\, Česká republika
CATEGORIES:Uplynulé
END:VEVENT
BEGIN:VEVENT
DTSTART;TZID=Europe/Prague:20241005T190000
DTEND;TZID=Europe/Prague:20241005T210000
DTSTAMP:20260424T232704
CREATED:20240916T062007Z
LAST-MODIFIED:20241007T054527Z
UID:2356-1728154800-1728162000@ds-oukej.cz
SUMMARY:Bábkarská Bystrica 2024: Hrdinky?!
DESCRIPTION:Zveme vás na další reprízu Hrdinek?!\, které se tentokrát budou konat v rámci 24. ročníku mezinárodního festivalu současného loutkového divadla v Banské Bystrici na Slovensku. Budou se na vás těšit herečky Šárka Šildová a Veronika Slámová. \nZde si můžete koupit vstupenky. \n 
URL:https://ds-oukej.cz/detail-akce/babkarska-bystrica-2024-hrdinky/
LOCATION:Urban Spot\, Skuteckého 3\, Banská Bystrica\, Slovakia (Slovak Republic)
CATEGORIES:Uplynulé
END:VEVENT
BEGIN:VEVENT
DTSTART;TZID=Europe/Prague:20240924T170000
DTEND;TZID=Europe/Prague:20240924T190000
DTSTAMP:20260424T232704
CREATED:20240916T061742Z
LAST-MODIFIED:20240925T055308Z
UID:2352-1727197200-1727204400@ds-oukej.cz
SUMMARY:Znakový jazyk v umění i sociálních službách
DESCRIPTION:Tichý svět o.p.s. a Hands Dance přiblíží krásu českého znakového jazyka. Ten má zásadní význam v sociálních službách\, ale také jako prostředek uměleckého tlumočení\, díky kterému jsou písně a hudba dostupné i neslyšícím divákům. Návštěvníci budou mít jedinečnou příležitost “zazpívat si” ve znakovém jazyce a možnost se blíže seznámit s problematikou znakového jazyka prostřednictvím slyšících i neslyšících odborníků přímo na místě. \nTlumočení do/z českého znakového jazyka zajištěno. Přidejte se do události na Facebooku. \n  \n \n  \n  \n 
URL:https://ds-oukej.cz/detail-akce/znakovy-jazyk-v-umeni-i-socialnich-sluzbach/
LOCATION:Moravská zemská knihovna\, Kounicova 996/65a\, Brno\, Jihomoravský kraj\, 60200\, Czech Republic
CATEGORIES:Uplynulé
END:VEVENT
BEGIN:VEVENT
DTSTART;TZID=Europe/Prague:20240921T150000
DTEND;TZID=Europe/Prague:20240921T220000
DTSTAMP:20260424T232704
CREATED:20240830T111830Z
LAST-MODIFIED:20240923T054504Z
UID:2346-1726930800-1726956000@ds-oukej.cz
SUMMARY:Múzy na Valech
DESCRIPTION:Se skupinou Hands Dance vystoupíme na “tržišti umění” s tlumočenými písněmi do uměleckého znakového jazyka. \nPro více informací se podívejte na Facebookovou událost.
URL:https://ds-oukej.cz/detail-akce/muzy-na-valech/
LOCATION:ulice Jízdecká\, Nymburk
CATEGORIES:Uplynulé
END:VEVENT
BEGIN:VEVENT
DTSTART;TZID=Europe/Prague:20240920T170000
DTEND;TZID=Europe/Prague:20240920T220000
DTSTAMP:20260424T232704
CREATED:20240830T111641Z
LAST-MODIFIED:20240923T054454Z
UID:2344-1726851600-1726869600@ds-oukej.cz
SUMMARY:Neslýchaně zábavný večer
DESCRIPTION:Přijďte si s námi užít již 9. ročník akce Neslýchaně zábavný večer v Kroměříži. \n  \n \n 
URL:https://ds-oukej.cz/detail-akce/neslychane-zabavny-vecer/
LOCATION:Dům kultury v Kroměříži\, Tovačovského 2828/22\, Kroměříž\, 76701\, Czech Republic
CATEGORIES:Uplynulé
END:VEVENT
BEGIN:VEVENT
DTSTART;TZID=Europe/Prague:20240912T170000
DTEND;TZID=Europe/Prague:20240912T210000
DTSTAMP:20260424T232704
CREATED:20240830T111412Z
LAST-MODIFIED:20240916T061412Z
UID:2340-1726160400-1726174800@ds-oukej.cz
SUMMARY:Festival inkluzivní kultury
DESCRIPTION:Na festivalu vystoupí herečky Veronika Slámová a Šárka Šildová s představením Hrdinky?!\, po inscenaci bude následovat workshop. \nPro více informací se podívejte na událost na Facebooku.
URL:https://ds-oukej.cz/detail-akce/festival-inkluzivni-kultury/
LOCATION:Pedagogická fakulta MU\, Brno\, Poříčí 7/9\, Brno-střed\, 639 00\, Czech Republic
CATEGORIES:Uplynulé
END:VEVENT
BEGIN:VEVENT
DTSTART;TZID=Europe/Prague:20240905T100000
DTEND;TZID=Europe/Prague:20240905T180000
DTSTAMP:20260424T232704
CREATED:20240830T111130Z
LAST-MODIFIED:20240916T061356Z
UID:2337-1725530400-1725559200@ds-oukej.cz
SUMMARY:Neslýchaná akce
DESCRIPTION:Doražte letos na tradiční Neslýchanou akce\, pořádanou v Brně. Čeká na vás bohatý program. My tam budeme taky! \n 
URL:https://ds-oukej.cz/detail-akce/neslychana-akce-2/
LOCATION:Moravské náměstí\, u sochy markraběte Jošta\, Brno\, Moravské nám. 611/6\, Brno\, 60200\, Czech Republic
CATEGORIES:Uplynulé
END:VEVENT
BEGIN:VEVENT
DTSTART;TZID=Europe/Prague:20240822T181500
DTEND;TZID=Europe/Prague:20240822T201500
DTSTAMP:20260424T232704
CREATED:20240830T110924Z
LAST-MODIFIED:20240830T110924Z
UID:2333-1724350500-1724357700@ds-oukej.cz
SUMMARY:21. ročník mezinárodního festivalu dechových orchestrů a folklorních souborů
DESCRIPTION:Přijďte se podívat jak vypadá folklorní hudba umělecky přetlumočená do znakového jazyka! Budeme na zahajovacím koncertu mezinárodního festivalu dechových orchestrů a folklorních souborů (FEDO) vystupovat společně s Cimbálovou muzikou Sylván. \n 
URL:https://ds-oukej.cz/detail-akce/21-rocnik-mezinarodniho-festivalu-dechovych-orchestru-a-folklornich-souboru/
LOCATION:Náměstí Míru\, Zlín\, nám. Míru\, Zlín 1\, 760 01\, Czech Republic
CATEGORIES:Uplynulé
END:VEVENT
BEGIN:VEVENT
DTSTART;TZID=Europe/Prague:20240717T140000
DTEND;TZID=Europe/Prague:20240720T170000
DTSTAMP:20260424T232704
CREATED:20240715T090312Z
LAST-MODIFIED:20240721T120047Z
UID:2300-1721224800-1721494800@ds-oukej.cz
SUMMARY:Colours of Ostrava 2024
DESCRIPTION:S radostí vás zveme na další ročník festivalu Colours of Ostrava\, na kterém nás opět budete mít možnost vidět tlumočit vybrané koncerty. Tlumočení bude zajišťovat tým Hands Dance a jeho externí spolupracovníci. Kromě nás bude na festivalu také tlumočnice Amber Galloway. \nNa jaké koncerty tlumočené do znakového jazyka se můžete těšit? Můžete se níže podívat na plakáty. Podívejte se taky na seznam přednášek\, které budou tlumočeny do českého znakového jazyka. \nUrčitě se přidejte do FB skupiny Colours bez bariér\, kde získáte spoustu užitečných informací! \nTěšíme se na vás! \nHands Dance
URL:https://ds-oukej.cz/detail-akce/colours-of-ostrava-2024/
LOCATION:Areál Dolní oblast Vítkovice – Ostrava\, Vítkovice 3004\, Ostrava\, 703 00
CATEGORIES:Uplynulé
END:VEVENT
BEGIN:VEVENT
DTSTART;TZID=Europe/Prague:20240621T170000
DTEND;TZID=Europe/Prague:20240621T180000
DTSTAMP:20260424T232704
CREATED:20240830T110517Z
LAST-MODIFIED:20240830T110517Z
UID:2325-1718989200-1718992800@ds-oukej.cz
SUMMARY:Festival UPROSTŘED
DESCRIPTION:Přijďte se podívat zahájení Festivalu UPROSTŘED\, my z Hands Dance tam budeme! \n 
URL:https://ds-oukej.cz/detail-akce/festival-uprostred/
LOCATION:Římské náměstí / Františkánská ulice\, Brno\, Římské náměstí / Františkánská ulice\, Brno\, Czech Republic
CATEGORIES:Uplynulé
END:VEVENT
BEGIN:VEVENT
DTSTART;TZID=Europe/Prague:20240621T160000
DTEND;TZID=Europe/Prague:20240621T210000
DTSTAMP:20260424T232704
CREATED:20240830T110638Z
LAST-MODIFIED:20240830T110638Z
UID:2330-1718985600-1719003600@ds-oukej.cz
SUMMARY:Minská open
DESCRIPTION:
URL:https://ds-oukej.cz/detail-akce/minska-open/
LOCATION:prostor před radnicí městské části Brno-Žabovřesky
CATEGORIES:Uplynulé
END:VEVENT
BEGIN:VEVENT
DTSTART;TZID=Europe/Prague:20240619T160000
DTEND;TZID=Europe/Prague:20240619T180000
DTSTAMP:20260424T232704
CREATED:20240830T110120Z
LAST-MODIFIED:20240830T110213Z
UID:2312-1718812800-1718820000@ds-oukej.cz
SUMMARY:Emil Open: 13. ročník Evropských her handicapované mládeže
DESCRIPTION:Přijďte na zahajovací ceremoniál 13. ročníku Evropských her handicapované mládeže\, který bude tlumočen do českého znakového jazyka a do mezinárodního znakového systému. \n 
URL:https://ds-oukej.cz/detail-akce/emil-open-13-rocnik-evropskych-her-handicapovane-mladeze/
LOCATION:Technická 3013/14\, Palackého vrch\, Brno\, Technická 3013/14\, Brno
CATEGORIES:Uplynulé
END:VEVENT
BEGIN:VEVENT
DTSTART;TZID=Europe/Prague:20240608T150000
DTEND;TZID=Europe/Prague:20240608T190000
DTSTAMP:20260424T232704
CREATED:20240528T053629Z
LAST-MODIFIED:20240610T052348Z
UID:2134-1717858800-1717873200@ds-oukej.cz
SUMMARY:Smetanovy Jabkenice - Prodaná nevěsta
DESCRIPTION:Přijďte se podívat na vyvrcholení festivalu Smetanovy Jabkenice! Můžete se těšit na jedinečné představení inspirované operou Bedřicha Smetany – Prodaná nevěsta. Do netradiční podoby toto dílo přetvořil režisér Vojtěch Orenič. Opera bude tlumočená do českého znakového jazyka členy skupiny Hands Dance. Máte se určitě na co těšit\, tak neváhejte a zapište si termín do svých kalendářů! \nProgram a více informací k festivalu a prodeji vstupenek na operu naleznete zde. \nFacebook a Instagram festivalu Smetanovy Jabkenice.
URL:https://ds-oukej.cz/detail-akce/smetanovy-jabkenice-prodana-nevesta/
LOCATION:Památník Bedřicha Smetany\, Jabkenice 33\, Jabkenice\, 294 45\, Czech Republic
CATEGORIES:Uplynulé
END:VEVENT
BEGIN:VEVENT
DTSTART;TZID=Europe/Prague:20240503T190000
DTEND;TZID=Europe/Prague:20240503T203000
DTSTAMP:20260424T232704
CREATED:20240424T055501Z
LAST-MODIFIED:20240521T092809Z
UID:2084-1714762800-1714768200@ds-oukej.cz
SUMMARY:Hrdinky?!
DESCRIPTION:Srdečně vás zveme do Divadla Barka v Brně. Herečky Šárka Šildová a Veronika Slámová pro vás budou hrát poslední reprízu letošní divadelní sezóny inscenace Hrdinky?! \nVečerní představení začíná v 19:00 a bude tentokrát doplněno také komentářem pro nevidomé. \nVstupenky si můžete rezervovat přes e-mail: rezervace@ds-oukej.cz \nZde se můžete přidat do události na Facebooku. \nBudeme se těšit na viděnou! \nDivadelní spolek OUKEJ \nToto představení se koná za finanční podpory statutárního města Brna. Děkujeme.
URL:https://ds-oukej.cz/detail-akce/hrdinky-5/
LOCATION:Divadlo Barka\, Svatopluka Čecha 1405/35a\, Brno\, 612 00\, Česká republika
CATEGORIES:Uplynulé
END:VEVENT
BEGIN:VEVENT
DTSTART;TZID=Europe/Prague:20240503T100000
DTEND;TZID=Europe/Prague:20240503T200000
DTSTAMP:20260424T232704
CREATED:20240424T060214Z
LAST-MODIFIED:20240521T092938Z
UID:2095-1714730400-1714766400@ds-oukej.cz
SUMMARY:Podchod vol. 3
DESCRIPTION:Zveme vás na další skvělou akci\, na které se za Divadelní spolek OUKEJ objeví neslyšící Dáša Máliková. Na festivalu Podchod v Ostravě vystoupí v 10:00 s knižním představením O Smolíčkovi. Jedná se o knižní představení v českém znakovém jazyce\, doplněné o workshop\, diskuzi a znakovanou písničku. Z neslyšících umělců na festivalu dále vystoupí třeba také Michaela Kosiecová s poezií v uměleckém znakovém jazyce. Určitě je na co se těšit!  \nPodchod je multižánrový festival – budete moci zažít hudbu\, poezii\, divadlo\, autorská čtení\, performance\, výstavy fotografií a maleb a spoustu dalšího. Pro více informací se podívejte na oficiální profil festivalu na Facebooku.
URL:https://ds-oukej.cz/detail-akce/podchod-vol-3/
LOCATION:Frýdlantské mosty (podchod)/ Náměstí republiky\, Moravská Ostrava a Přívoz\, Česká republika
CATEGORIES:Uplynulé
END:VEVENT
BEGIN:VEVENT
DTSTART;TZID=Europe/Prague:20240404T190000
DTEND;TZID=Europe/Prague:20240404T203000
DTSTAMP:20260424T232704
CREATED:20240403T172032Z
LAST-MODIFIED:20240406T101619Z
UID:2040-1712257200-1712262600@ds-oukej.cz
SUMMARY:Hrdinky?!
DESCRIPTION:Přijďte se podívat na pravděpodobně poslední večerní reprízu Hrdinek?! v tomto roce. Budeme hrát v Brně v divadle Polárka a bude to skvělé. \nVšichni jste srdečně zváni! \nOdkaz na událost na Facebooku. Vstupenky si můžete zakoupit zde. \nBudeme se těšit na vás těšit.
URL:https://ds-oukej.cz/detail-akce/hrdinky-4/
LOCATION:Divadlo Polárka Brno\, Tučkova 3\, Brno\, 602 00\, Česká republika
CATEGORIES:Uplynulé
END:VEVENT
BEGIN:VEVENT
DTSTART;TZID=Europe/Prague:20240327T173000
DTEND;TZID=Europe/Prague:20240327T183000
DTSTAMP:20260424T232704
CREATED:20240313T075902Z
LAST-MODIFIED:20240403T171825Z
UID:2034-1711560600-1711564200@ds-oukej.cz
SUMMARY:Pítrs a Márdi z Vypsané Fixy pro neslyšící
DESCRIPTION:Přijďte se podívat na další skvělou akci\, kde budou tlumočit členové skupiny Hands Dance! Jedná se o koncert Pítrse a Márdiho z Vypsané Fixy\, který pořádá Skautský institut v Hradci. Událost na Facebooku najdete zde. Vstupenky je možné zakoupit na tomto odkazu. \nBudeme se těšit na viděnou!
URL:https://ds-oukej.cz/detail-akce/pitrs-a-mardi-z-vypsane-fixy-pro-neslysici/
LOCATION:Zámostí 684/1\, 500 09 Hradec Králové\, Česko\, Zámostí 684/1\, Hradec Králové\, 50009\, Česká republika
CATEGORIES:Uplynulé
END:VEVENT
BEGIN:VEVENT
DTSTART;TZID=Europe/Prague:20240316T190000
DTEND;TZID=Europe/Prague:20240321T210000
DTSTAMP:20260424T232704
CREATED:20240311T065101Z
LAST-MODIFIED:20240318T111546Z
UID:2030-1710615600-1711054800@ds-oukej.cz
SUMMARY:Komorní opera HF JAMU: V studni / Polapená nevěra
DESCRIPTION:Vážení přátelé\, \nzveme vás na dvě komorní opery: V studni a Polapená nevěra\, jejichž premiéry proběhnou 16. a 17. března 2024. Reprízy těchto oper se budou hrát od premiér každý večer až do 21.3. včetně. Komorní opery vznikly jakožto projekt Hudební fakulty JAMU a mimo jiné na nich spolupracovali umělci z Divadelního spolku OUKEJ. \nVíce informací včetně vstupenek naleznete zde.
URL:https://ds-oukej.cz/detail-akce/komorni-opera-hf-jamu-v-studni-polapena-nevera/
LOCATION:Divadlo na Orlí\, Orlí 19\, Brno\, 602 00\, Česká republika
CATEGORIES:Uplynulé
END:VEVENT
BEGIN:VEVENT
DTSTART;TZID=Europe/Prague:20240305T190000
DTEND;TZID=Europe/Prague:20240305T200000
DTSTAMP:20260424T232704
CREATED:20240306T070311Z
LAST-MODIFIED:20240306T070346Z
UID:2014-1709665200-1709668800@ds-oukej.cz
SUMMARY:Hrdinky?!
DESCRIPTION:Na další reprízu představení Hrdinky?! se můžete přijít podívat v Plzni 5. 3. 2024 od 19:00. Více informací najdete v události na Facebooku zde. \nBudeme se na vás těšit!
URL:https://ds-oukej.cz/detail-akce/hrdinky-3/
LOCATION:Moving Station – kulturní prostor\, Koperníkova 574/56\, 301 00 Plzeň\, Česká republika
CATEGORIES:Uplynulé
END:VEVENT
BEGIN:VEVENT
DTSTART;TZID=Europe/Prague:20240224T130000
DTEND;TZID=Europe/Prague:20240224T140000
DTSTAMP:20260424T232704
CREATED:20240214T062344Z
LAST-MODIFIED:20240226T073938Z
UID:1993-1708779600-1708783200@ds-oukej.cz
SUMMARY:Slyšíme se! 2024: Knižní představení O Smolíčkovi
DESCRIPTION:Srdečně vás zveme na akci při příležitosti Světového dne sluchu: Slyšíme se! 2024. Bude se konat v Brně od 10:00 do 15:00. V rámci programu vystoupí se svým knižním představením O Smolíčkovi neslyšící herečka Dagmar Máliková. \nOdkaz na událost na facebooku najdete zde.
URL:https://ds-oukej.cz/detail-akce/slysime-se-2024-knizni-predstaveni-o-smolickovi/
LOCATION:SVČ Lužánky – pracoviště Lány (Lány 85/3\, Brno)\, Lány 85/3\, Brno
CATEGORIES:Uplynulé
END:VEVENT
BEGIN:VEVENT
DTSTART;TZID=Europe/Prague:20240208T170000
DTEND;TZID=Europe/Prague:20240208T180000
DTSTAMP:20260424T232704
CREATED:20240214T062126Z
LAST-MODIFIED:20240214T062126Z
UID:1991-1707411600-1707415200@ds-oukej.cz
SUMMARY:Zákoutí světa Neslyšících: pohádky i pro neslyšící děti
DESCRIPTION:Další zajímavou akcí\, o které bychom vás rádi informovali je první setkání z cyklu Zákoutí světa Neslyšících\, kde bude mimo jiné vystupovat také naše herečka Veronika Slámová se svým knižním představením Červená karkulka. Akce se bude konat ve Frýdku-Místku v městské knihovně. \nVíce informací se můžete dočíst níže na přiloženém letáku nebo na facebooku VIA osob se smyslovým postižením – zde. \n 
URL:https://ds-oukej.cz/detail-akce/zakouti-sveta-neslysicich-pohadky-i-pro-neslysici-deti/
LOCATION:Městská knihovna Frýdek-Místek\, Hlavní třída 112\, Frýdek-Místek\, 738 01\, Česká republika
CATEGORIES:Uplynulé
END:VEVENT
BEGIN:VEVENT
DTSTART;TZID=Europe/Prague:20240131T153000
DTEND;TZID=Europe/Prague:20240131T190000
DTSTAMP:20260424T232704
CREATED:20240131T064527Z
LAST-MODIFIED:20240214T061822Z
UID:1941-1706715000-1706727600@ds-oukej.cz
SUMMARY:České Budějovice: V4 Winter Games Emil Open
DESCRIPTION:Naše spolupráce s Nadačním fondem Emil pokračuje i v letošním roce. Opět vystoupíme s tlumočenými písněmi do českého znakového jazyka a zajistíme tlumočení zahajovacího ceremoniálu na zimních hrách V4 Winter Games Emil Open\, které budou zahájeny ve středu 31. 1. 2024 v Českých Budějovicích. \nVíce informací včetně programu naleznete na webových stránkách zde.
URL:https://ds-oukej.cz/detail-akce/ceske-budejovice-v4-winter-games-emil-open/
LOCATION:Clarion Congress Hotel České Budějovice\, Pražská třída 2306/14\, České Budějovice\, 370 10
CATEGORIES:Uplynulé
END:VEVENT
BEGIN:VEVENT
DTSTART;TZID=Europe/Prague:20240119T190000
DTEND;TZID=Europe/Prague:20240119T200000
DTSTAMP:20260424T232704
CREATED:20240116T062754Z
LAST-MODIFIED:20240122T072931Z
UID:1922-1705690800-1705694400@ds-oukej.cz
SUMMARY:Hrdinky?!
DESCRIPTION:Na druhou reprízu představení Hrdinky?! v letošním roce se můžete přijít podívat v Brně 19. 1. 2024 od 19 hodin. Budeme hrát v Divadle Barka v městské části Královo Pole. \nVíce informací najdete na přiloženém plakátu níže. Vstupenky je možné rezervovat na e-mailu: rezervace@ds-oukej.cz. \nBudeme se na vás těšit!
URL:https://ds-oukej.cz/detail-akce/hrdinky-2/
LOCATION:Divadlo Barka\, Svatopluka Čecha 1405/35a\, Brno\, 612 00\, Česká republika
CATEGORIES:Uplynulé
END:VEVENT
BEGIN:VEVENT
DTSTART;TZID=Europe/Prague:20240117T190000
DTEND;TZID=Europe/Prague:20240117T200000
DTSTAMP:20260424T232704
CREATED:20240116T062226Z
LAST-MODIFIED:20240122T072916Z
UID:1914-1705518000-1705521600@ds-oukej.cz
SUMMARY:Hrdinky?!
DESCRIPTION:Srdečně vás zveme na další reprízu divadelního představení Hrdinky?! \nTentokrát pro vás budeme hrát ve Znojmě a to 17. 1. 2024 od 19 hodin Galerii a Prostoru na ulici Kollárova. Více informací najdete na FB události (zde) nebo na přiloženém plakátu níže. Zde  je odkaz na nákup vstupenek. \nBudeme se na vás těšit!
URL:https://ds-oukej.cz/detail-akce/hrdinky/
LOCATION:Galerie a Prostor\, Kollárova 27\, Znojmo\, 66902\, Česká republika
CATEGORIES:Uplynulé
END:VEVENT
BEGIN:VEVENT
DTSTART;TZID=Europe/Prague:20231218T180000
DTEND;TZID=Europe/Prague:20231218T190000
DTSTAMP:20260424T232704
CREATED:20231206T081259Z
LAST-MODIFIED:20240116T061854Z
UID:1897-1702922400-1702926000@ds-oukej.cz
SUMMARY:Adventní koncert nejen pro neslyšící v Brně
DESCRIPTION:Adventní koncert skupiny Hands Dance se koná v pondělí 18. prosince od 18h v Červeném kostele v Brně. Vystoupí Pěvecký sbor – Vídeňáček pod vedením Marty Kročové. Umělecké tlumočení zajistí členové skupiny Hands Dance. \nHostem našeho prvního adventního koncertu v Brně tlumočeného do českého znakového jazyka bude Dáša Ubrová a Vojtěch Svatoš. Přijďte si společně užít předvánoční atmosféru\, poslechnout i shlédnout vánoční písně a zazpívat vánoční koledy. \nPrůběžné informace můžete sledovat na facebookové události zde . \nVstupné dobrovolné. \n \n  \n 
URL:https://ds-oukej.cz/detail-akce/adventni-koncert-nejen-pro-neslysici-v-brne/
LOCATION:Českobratrský evangelický chrám Jana Amose Komenského\, Komenského náměstí 2\, Brno\, 60200
CATEGORIES:Uplynulé
END:VEVENT
END:VCALENDAR