BEGIN:VCALENDAR
VERSION:2.0
PRODID:-//OUKEJ divadelní spolek - ECPv6.15.13//NONSGML v1.0//EN
CALSCALE:GREGORIAN
METHOD:PUBLISH
X-ORIGINAL-URL:https://ds-oukej.cz
X-WR-CALDESC:Akce na OUKEJ divadelní spolek
REFRESH-INTERVAL;VALUE=DURATION:PT1H
X-Robots-Tag:noindex
X-PUBLISHED-TTL:PT1H
BEGIN:VTIMEZONE
TZID:Europe/Prague
BEGIN:DAYLIGHT
TZOFFSETFROM:+0100
TZOFFSETTO:+0200
TZNAME:CEST
DTSTART:20200329T010000
END:DAYLIGHT
BEGIN:STANDARD
TZOFFSETFROM:+0200
TZOFFSETTO:+0100
TZNAME:CET
DTSTART:20201025T010000
END:STANDARD
BEGIN:DAYLIGHT
TZOFFSETFROM:+0100
TZOFFSETTO:+0200
TZNAME:CEST
DTSTART:20210328T010000
END:DAYLIGHT
BEGIN:STANDARD
TZOFFSETFROM:+0200
TZOFFSETTO:+0100
TZNAME:CET
DTSTART:20211031T010000
END:STANDARD
BEGIN:DAYLIGHT
TZOFFSETFROM:+0100
TZOFFSETTO:+0200
TZNAME:CEST
DTSTART:20220327T010000
END:DAYLIGHT
BEGIN:STANDARD
TZOFFSETFROM:+0200
TZOFFSETTO:+0100
TZNAME:CET
DTSTART:20221030T010000
END:STANDARD
END:VTIMEZONE
BEGIN:VEVENT
DTSTART;TZID=Europe/Prague:20210628T180000
DTEND;TZID=Europe/Prague:20210628T193000
DTSTAMP:20260425T123006
CREATED:20210913T081638Z
LAST-MODIFIED:20220425T085035Z
UID:828-1624903200-1624908600@ds-oukej.cz
SUMMARY:Hands Dance: Písně pro oči i uši
DESCRIPTION:Srdečně Vás zveme na akci skupiny Hands Dance zaměřující se na umělecký překlad do znakového jazyka. Tito slyšící i neslyšící tlumočníci z Brna Vám zazpívají rukama a hudební doprovod jim zajistí zpěvačka Lucie Hanáková a kapela Sonic People. \nAkce se koná za finanční podpory statutárního města Brna.
URL:https://ds-oukej.cz/detail-akce/hands-dance-pisne-pro-oci-i-usi-3/
LOCATION:Kavárna Trojka\, Dům pánů z Kunštátu – Dominikánská 9\, Brno
CATEGORIES:Uplynulé
END:VEVENT
BEGIN:VEVENT
DTSTART;TZID=Europe/Prague:20210617T190000
DTEND;TZID=Europe/Prague:20210617T200000
DTSTAMP:20260425T123006
CREATED:20210530T180347Z
LAST-MODIFIED:20220425T085043Z
UID:757-1623956400-1623960000@ds-oukej.cz
SUMMARY:Pojď se mnou do světa
DESCRIPTION:Pojď se mnou do světa – výběr písní J. Bulise tlumočených do českého jazyka. Představení vzniklo ve spolupráci studentek ateliéru Divadlo a výchova Neslyšících\, studentů a studentek ateliéru muzikálového herectví (doc. MgA. Michala Zetela) a skupiny Hands Dance v rámci specifického výzkumu Radky Kulichové. \nVíce o události zde. \n 
URL:https://ds-oukej.cz/detail-akce/pojd-se-mnou-do-sveta-4/
LOCATION:Outdoor stage Nezávislé kultury – Sokolský stadion\, Kounicova 22\, Brno\, 60200
CATEGORIES:Uplynulé
END:VEVENT
BEGIN:VEVENT
DTSTART;TZID=Europe/Prague:20210609T170000
DTEND;TZID=Europe/Prague:20210609T183000
DTSTAMP:20260425T123006
CREATED:20210913T080928Z
LAST-MODIFIED:20220425T085053Z
UID:823-1623258000-1623263400@ds-oukej.cz
SUMMARY:Hands Dance: Písně pro oči i uši
DESCRIPTION:Srdečně Vás zveme na posezení s živou hudbou. Písně v podání Lucie Hanákové s kapelou Sonic people bude do znakového jazyka tlumočit skupina Hands Dance. \nTato akce se uskuteční za finanční podpory statutárního města Brna.
URL:https://ds-oukej.cz/detail-akce/hands-dance-pisne-pro-oci-i-usi-2/
LOCATION:Kavárna u Žambocha\, Kollárova 19\, Brno
CATEGORIES:Uplynulé
END:VEVENT
BEGIN:VEVENT
DTSTART;TZID=Europe/Prague:20210609T170000
DTEND;TZID=Europe/Prague:20210609T180000
DTSTAMP:20260425T123006
CREATED:20210530T175933Z
LAST-MODIFIED:20220425T085218Z
UID:749-1623258000-1623261600@ds-oukej.cz
SUMMARY:Hands Dance: písně pro oči i uši
DESCRIPTION:Srdečně Vás zveme na posezení s živou hudbou. Písně v podání Lucie Hanákové s kapelou Sonic people bude do znakového jazyka tlumočit skupina Hands Dance.\nTato akce se uskuteční za finanční podpory statutárního města Brna. \nVíce na fb události zde.
URL:https://ds-oukej.cz/detail-akce/hands-dance-pisne-pro-oci-i-usi/
LOCATION:Kavárna u Žambocha\, Kollárova 19\, Brno
CATEGORIES:Uplynulé
END:VEVENT
BEGIN:VEVENT
DTSTART;TZID=Europe/Prague:20210423T110000
DTEND;TZID=Europe/Prague:20210423T120000
DTSTAMP:20260425T123006
CREATED:20210418T070918Z
LAST-MODIFIED:20220425T085223Z
UID:738-1619175600-1619179200@ds-oukej.cz
SUMMARY:Interaktivní přednáška Moje objevování
DESCRIPTION:Online přednáška zaměřená na projekt knižního vystoupení Moniky Goldefusové\, zajišťujeme pro Pedagogickou fakultu Univerzity Palackého v Olomouci. \nPřednáška proběhne na platformě ZOOM\, zcela zdarma\, je však třeba se na ni registrovat. \nRegistraci i podrobnější informace naleznete zde.
URL:https://ds-oukej.cz/detail-akce/interaktivni-prednaska-moje-objevovani/
LOCATION:online
CATEGORIES:Uplynulé
END:VEVENT
END:VCALENDAR