BEGIN:VCALENDAR
VERSION:2.0
PRODID:-//OUKEJ divadelní spolek - ECPv6.15.13//NONSGML v1.0//EN
CALSCALE:GREGORIAN
METHOD:PUBLISH
X-WR-CALNAME:OUKEJ divadelní spolek
X-ORIGINAL-URL:https://ds-oukej.cz
X-WR-CALDESC:Akce na OUKEJ divadelní spolek
REFRESH-INTERVAL;VALUE=DURATION:PT1H
X-Robots-Tag:noindex
X-PUBLISHED-TTL:PT1H
BEGIN:VTIMEZONE
TZID:Europe/Prague
BEGIN:DAYLIGHT
TZOFFSETFROM:+0100
TZOFFSETTO:+0200
TZNAME:CEST
DTSTART:20220327T010000
END:DAYLIGHT
BEGIN:STANDARD
TZOFFSETFROM:+0200
TZOFFSETTO:+0100
TZNAME:CET
DTSTART:20221030T010000
END:STANDARD
BEGIN:DAYLIGHT
TZOFFSETFROM:+0100
TZOFFSETTO:+0200
TZNAME:CEST
DTSTART:20230326T010000
END:DAYLIGHT
BEGIN:STANDARD
TZOFFSETFROM:+0200
TZOFFSETTO:+0100
TZNAME:CET
DTSTART:20231029T010000
END:STANDARD
BEGIN:DAYLIGHT
TZOFFSETFROM:+0100
TZOFFSETTO:+0200
TZNAME:CEST
DTSTART:20240331T010000
END:DAYLIGHT
BEGIN:STANDARD
TZOFFSETFROM:+0200
TZOFFSETTO:+0100
TZNAME:CET
DTSTART:20241027T010000
END:STANDARD
END:VTIMEZONE
BEGIN:VEVENT
DTSTART;TZID=Europe/Prague:20231212T190000
DTEND;TZID=Europe/Prague:20231212T203000
DTSTAMP:20260425T040828
CREATED:20231103T124853Z
LAST-MODIFIED:20231213T075928Z
UID:1725-1702407600-1702413000@ds-oukej.cz
SUMMARY:Adventní koncert na Vyšehradě\, Praha
DESCRIPTION:Srdečně vás zveme na adventní koncert na Vyšehradě každoročně pořádaný Tichým světem do kterého se již pravidelně zapojuje také skupina Hands Dance. Koncert začíná v 19 hodin v bazilice sv. Petra a Pavla a bude celý tlumočen do českého znakového jazyka. \nVíce o akci můžete sledovat na facebookové události zde. \nNezapomeňte si deky a vánoční náladu. \n \n 
URL:https://ds-oukej.cz/detail-akce/adventni-koncert-na-vysehrade-praha/
LOCATION:Bazilika sv. Petra a Pavla na Vyšehradě\, K Rotundě 100/10\, Praha 2\, Česká republika
CATEGORIES:Uplynulé
END:VEVENT
BEGIN:VEVENT
DTSTART;TZID=Europe/Prague:20231208T170000
DTEND;TZID=Europe/Prague:20231208T184500
DTSTAMP:20260425T040828
CREATED:20231206T080811Z
LAST-MODIFIED:20231211T143845Z
UID:1894-1702054800-1702061100@ds-oukej.cz
SUMMARY:Hands Dance na vyhlášení ankety Křesadlo
DESCRIPTION:V rámci vyhlášení cen ankety Křesadlo Jihomoravský kraj 8. prosince vystoupí skupina Hands Dance s tlumočenými písněmi a následně i s Pavlem Čadkem. \nDěkujeme za pozvání. \nTěšíme se.
URL:https://ds-oukej.cz/detail-akce/hands-dance-na-vyhlaseni-ankety-kresadlo/
LOCATION:Divadlo na Orlí\, Orlí 19\, Brno\, 602 00\, Česká republika
CATEGORIES:Uplynulé
END:VEVENT
BEGIN:VEVENT
DTSTART;TZID=Europe/Prague:20231207T190000
DTEND;TZID=Europe/Prague:20231207T193000
DTSTAMP:20260425T040828
CREATED:20231206T080422Z
LAST-MODIFIED:20231208T124627Z
UID:1891-1701975600-1701977400@ds-oukej.cz
SUMMARY:Advent na Moraváku - vystoupení Hands Dance
DESCRIPTION:V rámci Adventu na Moraváku vystoupí 7. prosince skupina Hands Dance s pásmem tlumočených písní do českého znakového jazyka. Vystoupení začíná v 19 hodin na pódiu u Jošta. \nPřijďte si s námi zapět i zaznakovat vánoční koledy a načerpat adventní atmosféru.
URL:https://ds-oukej.cz/detail-akce/advent-na-moravaku-vystoupeni-hands-dance/
LOCATION:U Jošta\, Moravské náměstí\, Brno\, 60200
CATEGORIES:Uplynulé
END:VEVENT
BEGIN:VEVENT
DTSTART;TZID=Europe/Prague:20231205T160000
DTEND;TZID=Europe/Prague:20231205T190000
DTSTAMP:20260425T040828
CREATED:20231206T080050Z
LAST-MODIFIED:20231206T080111Z
UID:1889-1701792000-1701802800@ds-oukej.cz
SUMMARY:Mikuláš u Jošta
DESCRIPTION:Umíte nějakou básničku a byli jste celý rok hodní? \nU sochy Jošta na Moravském náměstí se 5. prosince objeví Mikuláš\, čert i anděl\, kteří si připravili hry i dárečky. \nHrát si začínáme v 16 hodin\, tak přijďte a třeba dostanete i něco dobrého. \nVíce informací najdete zde. \n  \n 
URL:https://ds-oukej.cz/detail-akce/mikulas-u-josta/
LOCATION:U Jošta\, Moravské náměstí\, Brno\, 60200
CATEGORIES:Uplynulé
END:VEVENT
BEGIN:VEVENT
DTSTART;TZID=Europe/Prague:20231204T160000
DTEND;TZID=Europe/Prague:20231204T170000
DTSTAMP:20260425T040828
CREATED:20231206T075652Z
LAST-MODIFIED:20231206T075746Z
UID:1886-1701705600-1701709200@ds-oukej.cz
SUMMARY:Kniha jako divadlo: Kocour v botách
DESCRIPTION:V rámci Adventu na Moraváku vystoupí 4. prosince Divadelní spolek OUKEJ s knižním představením Kocour v botách s následujícím workshopem. Vystoupení  v 16 hodin na pódiu u Jošta. \nTěšíme se na vás.
URL:https://ds-oukej.cz/detail-akce/kniha-jako-divadlo-kocour-v-botach/
LOCATION:U Jošta\, Moravské náměstí\, Brno\, 60200
CATEGORIES:Uplynulé
END:VEVENT
BEGIN:VEVENT
DTSTART;TZID=Europe/Prague:20231201T153000
DTEND;TZID=Europe/Prague:20231201T163000
DTSTAMP:20260425T040828
CREATED:20231206T074549Z
LAST-MODIFIED:20231206T075803Z
UID:1878-1701444600-1701448200@ds-oukej.cz
SUMMARY:Z pohádky do pohádky
DESCRIPTION:Divadelní spolek OUKEJ přiveze 1.prosince do Krajské knihovny Vysočiny inscenaci Z pohádky do pohádky. Představení proběhne v místnosti zvaná ROZHLEDna v 15:30. \nZvaní jsou všichni.\nTěšíme se na vás.
URL:https://ds-oukej.cz/detail-akce/z-pohadky-do-pohadky-7/
LOCATION:Krajská knihovna Vysočiny\, Žižkova 4344\, Havlíčkův Brod\, 58001
CATEGORIES:Uplynulé
END:VEVENT
BEGIN:VEVENT
DTSTART;TZID=Europe/Prague:20231201T153000
DTEND;TZID=Europe/Prague:20231201T163000
DTSTAMP:20260425T040828
CREATED:20231103T124535Z
LAST-MODIFIED:20231204T074917Z
UID:1723-1701444600-1701448200@ds-oukej.cz
SUMMARY:Z pohádky do pohádky
DESCRIPTION:Divadelní spolek OUKEJ přiveze do Krajské knihovny Vysočiny inscenaci Z pohádky do pohádky. Představení proběhne v místnosti zvaná Rozhledna v 15:30. \nZvaní jsou všichni a nezapomeňte si pastelky. \nTěšíme se na vás.
URL:https://ds-oukej.cz/detail-akce/z-pohadky-do-pohadky-3/
LOCATION:Krajská knihovna Vysočiny\, Žižkova 4344\, Havlíčkův Brod\, 58001
CATEGORIES:Uplynulé
END:VEVENT
BEGIN:VEVENT
DTSTART;TZID=Europe/Prague:20231201T100000
DTEND;TZID=Europe/Prague:20231201T120000
DTSTAMP:20260425T040828
CREATED:20231206T075344Z
LAST-MODIFIED:20231206T075824Z
UID:1883-1701424800-1701432000@ds-oukej.cz
SUMMARY:Kniha jako divadlo – pro školy
DESCRIPTION:Divadelní spolek OUKEJ přiveze 1. prosince do Krajské knihovny Vysočiny dvě knižní představení pro školy i s workshopem. Nejprve Divoké prasátko a potom si pozvaní žáci pochutnají na Perníkové chaloupce. \nTěšíme se na vás.
URL:https://ds-oukej.cz/detail-akce/kniha-jako-divadlo-pro-skoly-2/
LOCATION:Krajská knihovna Vysočiny\, Žižkova 4344\, Havlíčkův Brod\, 58001
CATEGORIES:Uplynulé
END:VEVENT
BEGIN:VEVENT
DTSTART;TZID=Europe/Prague:20231201T100000
DTEND;TZID=Europe/Prague:20231201T120000
DTSTAMP:20260425T040828
CREATED:20231103T120851Z
LAST-MODIFIED:20231204T074859Z
UID:1721-1701424800-1701432000@ds-oukej.cz
SUMMARY:Kniha jako divadlo - pro školy
DESCRIPTION:Divadelní spolek OUKEJ přiveze pro žáky základních škol dvě Knižní představení spojené s workshopem. Kam? Do Krajské knihovny Vysočiny v Havlíčkově Brodě. Představí se vám Perníková chaloupka a Divoké Prasátko. \nTěšíme se na žáky i učitele.
URL:https://ds-oukej.cz/detail-akce/kniha-jako-divadlo-pro-skoly/
LOCATION:Krajská knihovna Vysočiny\, Žižkova 4344\, Havlíčkův Brod\, 58001
CATEGORIES:Uplynulé
END:VEVENT
BEGIN:VEVENT
DTSTART;TZID=Europe/Prague:20231130T100000
DTEND;TZID=Europe/Prague:20231130T120000
DTSTAMP:20260425T040828
CREATED:20231103T120533Z
LAST-MODIFIED:20231204T074841Z
UID:1719-1701338400-1701345600@ds-oukej.cz
SUMMARY:Hrdinky?! - pro školy
DESCRIPTION:V divadle Barka 30.listopadu v 10 hodin proběhne další repríza inscenace Hrdinky?! s připraveným workshopem pro školy. \nTěšíme se na studenty i učitele. \nDalší informace naleznete zde. \nToto představení se koná za finanční podpory statutárního města Brna. \n 
URL:https://ds-oukej.cz/detail-akce/hrdinky-pro-skoly/
LOCATION:Divadlo Barka\, Svatopluka Čecha 1405/35a\, Brno\, 612 00\, Česká republika
CATEGORIES:Uplynulé
END:VEVENT
BEGIN:VEVENT
DTSTART;TZID=Europe/Prague:20231122T140000
DTEND;TZID=Europe/Prague:20231122T150000
DTSTAMP:20260425T040828
CREATED:20231106T084605Z
LAST-MODIFIED:20231122T065742Z
UID:1762-1700661600-1700665200@ds-oukej.cz
SUMMARY:Z pohádky do pohádky
DESCRIPTION:Divadelní spolek OUKEJ zahraje v Klubu Leitnerova představení Z pohádky do pohádky ve středu 22. listopadu od 14 hodin. \nNezapomeňte si pastelky. \nToto představení se koná za finanční podpory statutárního města Brna. \nDalší informace zde. \n \n 
URL:https://ds-oukej.cz/detail-akce/z-pohadky-do-pohadky-6/
LOCATION:Klub Leitnerova\, Leitnerova 2\, Brno\, Jihomoravsky kraj\, 60200\, Česká republika
CATEGORIES:Uplynulé
END:VEVENT
BEGIN:VEVENT
DTSTART;TZID=Europe/Prague:20231113T190000
DTEND;TZID=Europe/Prague:20231113T203000
DTSTAMP:20260425T040828
CREATED:20231013T093307Z
LAST-MODIFIED:20231113T181934Z
UID:1667-1699902000-1699907400@ds-oukej.cz
SUMMARY:Hrdinky v Polárce
DESCRIPTION:V rámci nově navázané spolupráce s Divadlem Polárka bude v jejich prostorách uvedena repríza pro veřejnost inscenace Hrdinky?! v pondělí 13. listopadu. \nVstupenky můžete zakoupit zde. Více informací můžete také získat na FB události zde. \nPředstavení tentokrát i s komentářem pro nevidomé. V případě\, že komentář využijete\, nahlaste se u vstupu. Za technické zajištění komentáře pro nevidomé děkujeme Středisku Teiresias. \nToto představení se koná za finanční podpory statutárního města Brna. \n \n 
URL:https://ds-oukej.cz/detail-akce/hrdinky-v-polarce/
LOCATION:Divadlo Polárka Brno\, Tučkova 3\, Brno\, 602 00\, Česká republika
CATEGORIES:Uplynulé
END:VEVENT
BEGIN:VEVENT
DTSTART;TZID=Europe/Prague:20231111T170000
DTEND;TZID=Europe/Prague:20231111T190000
DTSTAMP:20260425T040828
CREATED:20231103T120329Z
LAST-MODIFIED:20231113T181704Z
UID:1716-1699722000-1699729200@ds-oukej.cz
SUMMARY:Společně nejen na jevišti
DESCRIPTION:Již po dvacáté se na jevišti Městského divadla v Jablonci nad Nisou sejdou umělci s i bez handicapu. 11.listopadu od 17 hodin se na prknech divadla objeví Dětský pěvecký sbor Skřivánek\, taneční vystoupení neslyšících dětí ze Základní školy Logopedické v Liberci\, Vladimír Lehotai\, taneční skupina T.I.K. Jilemnice společně s PATZ Jablonec nad Nisou a taneční soubor ZUŠ Jablonec nad Nisou. \nJako host vystoupí Hanka Křížková s talk show. \nCelý večer bude tlumočen co českého znakového jazyka skupinou Hands Dance. \nVstupenky a další informace naleznete zde . \n \n 
URL:https://ds-oukej.cz/detail-akce/spolecne-nejen-na-jevisti-2/
LOCATION:Městské divadlo Jablonec nad Nisou\, Liberecká 5/1900\, Jablonec nad Nisou\, Česká republika
CATEGORIES:Uplynulé
END:VEVENT
BEGIN:VEVENT
DTSTART;TZID=Europe/Prague:20231109T140000
DTEND;TZID=Europe/Prague:20231109T150000
DTSTAMP:20260425T040828
CREATED:20231106T084124Z
LAST-MODIFIED:20231110T114417Z
UID:1756-1699538400-1699542000@ds-oukej.cz
SUMMARY:Z pohádky do pohádky
DESCRIPTION:Divadelní spolek OUKEJ zahraje v Klubu Leitnerova představení Z pohádky do pohádky ve čtvrtek 9.listopadu od 14 hodin. \nNezapomeňte si pastelky. \nToto představení se koná za finanční podpory statutárního města Brna. \nDalší informace zde. \n 
URL:https://ds-oukej.cz/detail-akce/z-pohadky-do-pohadky-5/
LOCATION:Klub Leitnerova\, Leitnerova 2\, Brno\, Jihomoravsky kraj\, 60200\, Česká republika
CATEGORIES:Uplynulé
END:VEVENT
BEGIN:VEVENT
DTSTART;TZID=Europe/Prague:20231107T153000
DTEND;TZID=Europe/Prague:20231107T163000
DTSTAMP:20260425T040828
CREATED:20231103T115929Z
LAST-MODIFIED:20231107T071630Z
UID:1706-1699371000-1699374600@ds-oukej.cz
SUMMARY:Kniha jako divadlo v Jihlavě - pro Klub Šneček
DESCRIPTION:Divadelní spolek OUKEJ byl pozván Klubem Šneček do Jihlavy s představením Kocour v botách a přidruženým workshopem. \nSpolek byl v klubu již minulý rok s pohádkou Perníková chaloupka\, zde  si můžete prohlédnout fotografie. \nTěšíme se! \n  \n \n  \n 
URL:https://ds-oukej.cz/detail-akce/kniha-jako-divadlo-v-jihlave-pro-klub-snecek/
LOCATION:Centrum pro neslyšící a nedoslýchavé kraje Vysočina o.p.s.\, třída Legionářů 1460/24\, Jihlava\, Česká republika
CATEGORIES:Uplynulé
END:VEVENT
BEGIN:VEVENT
DTSTART;TZID=Europe/Prague:20231022T160000
DTEND;TZID=Europe/Prague:20231022T170000
DTSTAMP:20260425T040828
CREATED:20231013T092640Z
LAST-MODIFIED:20231023T062849Z
UID:1659-1697990400-1697994000@ds-oukej.cz
SUMMARY:Fest In: Z pohádky do pohádky
DESCRIPTION:V rámci festivalu Fest In: Postiženi uměním v Divadle Barka vystoupí Divadelní spolek OUKEJ s představeními Z pohádky do pohádky\, a to v neděli 22. října od 16:00. \nVíce informaci zde. \nTěšíme se na malé i velké děti! \n 
URL:https://ds-oukej.cz/detail-akce/fest-in-z-pohadky-do-pohadky/
LOCATION:Divadlo Barka\, Svatopluka Čecha 1405/35a\, Brno\, 612 00\, Česká republika
CATEGORIES:Uplynulé
END:VEVENT
BEGIN:VEVENT
DTSTART;TZID=Europe/Prague:20231019T170000
DTEND;TZID=Europe/Prague:20231019T180000
DTSTAMP:20260425T040828
CREATED:20231013T092848Z
LAST-MODIFIED:20231019T143249Z
UID:1662-1697734800-1697738400@ds-oukej.cz
SUMMARY:Hudba tlumočená do znakového jazyka aneb Zákoutí světa neslyšících
DESCRIPTION:Skupina Hands Dance vystoupí s vybranými písněmi a příspěvkem o uměleckém tlumočení v Městské knihovně Frýdek-Místek v 17h. Odpolední přednáška se uskuteční v rámci cyklu Zákoutí světa neslyšících ve spolupráci s VIA osob se smyslovým postižením\, z. s. \nTlumočení zajištěno. Těšíme se na vás! \nVíce informací zde.
URL:https://ds-oukej.cz/detail-akce/hudba-tlumocena-do-znakoveho-jazyka-aneb-zakouti-sveta-neslysicich/
LOCATION:Městská knihovna Frýdek-Místek\, Hlavní třída 112\, Frýdek-Místek\, 738 01\, Česká republika
CATEGORIES:Uplynulé
END:VEVENT
BEGIN:VEVENT
DTSTART;TZID=Europe/Prague:20231015T190000
DTEND;TZID=Europe/Prague:20231015T203000
DTSTAMP:20260425T040828
CREATED:20231013T092351Z
LAST-MODIFIED:20231013T103309Z
UID:1655-1697396400-1697401800@ds-oukej.cz
SUMMARY:Fest In: Hrdinky?!
DESCRIPTION:V rámci festivalu Fest In: Postiženi uměním v Divadle Barka vystoupí Divadelní spolek OUKEJ s představeními Hrdinky?!\, a to v neděli 15. října od 18:00. \nRezervace vstupenek: barka@ligavozic.cz\, vstupné dobrovolné (benefiční). \nVíce informaci zde. \nTěšíme se na vás!
URL:https://ds-oukej.cz/detail-akce/fest-in-hrdinky/
LOCATION:Divadlo Barka\, Svatopluka Čecha 1405/35a\, Brno\, 612 00\, Česká republika
CATEGORIES:Uplynulé
END:VEVENT
BEGIN:VEVENT
DTSTART;TZID=Europe/Prague:20231009T130000
DTEND;TZID=Europe/Prague:20231009T180000
DTSTAMP:20260425T040828
CREATED:20231013T092125Z
LAST-MODIFIED:20231013T092145Z
UID:1652-1696856400-1696874400@ds-oukej.cz
SUMMARY:Brněnské kulturní fórum: Kultura dostupná pro všechny
DESCRIPTION:V rámci XVII. Brněnského kulturního fóra vystoupí skupina Hands Dance s příspěvkem a ukázkou písní tlumočených do znakového jazyka.  V bloku od 16h nepředstaví pouze své aktivity\, ale i další činnosti své zastřešující organizace – Divadelního spolku OUKEJ. Akce začíná ve 13h a bude tlumočena do českého znakového jazyka\, je zajištěn přepis a další asistenční služby. \nPro další informace prosím shlédněte pozvánku\, která je tlumočena do znakového jazyka a opatřena titulky. \nDalší informace naleznete zde.
URL:https://ds-oukej.cz/detail-akce/brnenske-kulturni-forum-kultura-dostupna-pro-vsechny/
LOCATION:Divadlo na Orlí\, Orlí 19\, Brno\, 602 00\, Česká republika
CATEGORIES:Uplynulé
END:VEVENT
BEGIN:VEVENT
DTSTART;TZID=Europe/Prague:20231006T180000
DTEND;TZID=Europe/Prague:20231006T235900
DTSTAMP:20260425T040828
CREATED:20231013T081659Z
LAST-MODIFIED:20231013T081659Z
UID:1648-1696615200-1696636740@ds-oukej.cz
SUMMARY:Hands Dance a Dáša Ubrová - Noc vědců na VUT
DESCRIPTION:Zveme vás na Noc vědců\, v pátek 6.října\, od 18h do půlnoci.  Skupina Hands Dance bude tlumočit živé vystoupení zpěvačky Dáši Ubrové a přidá i trochou povídání. Vystoupí na VUT v Brně\, v Centru sportovních aktivit\, od 20h. Koncertem program nekončí po celém VUT i v Centru sportovních aktivit je připraveno mnoho dalších aktivit a přednášek. \nVíce informací o koncertu zde\, o Noci vědců zde. \nNeváhejte a doražte!
URL:https://ds-oukej.cz/detail-akce/hands-dance-a-dasa-ubrova-noc-vedcu-na-vut/
LOCATION:VUT\, Centrum sportovních aktivit\, Kolejní 2\, Brno\, 612 00\, Česká republika
CATEGORIES:Uplynulé
END:VEVENT
BEGIN:VEVENT
DTSTART;TZID=Europe/Prague:20230922T170000
DTEND;TZID=Europe/Prague:20230922T190000
DTSTAMP:20260425T040828
CREATED:20230719T114319Z
LAST-MODIFIED:20231013T081100Z
UID:1596-1695402000-1695409200@ds-oukej.cz
SUMMARY:VIII. Neslýchaně zábavný večer
DESCRIPTION:Letos proběhne osmý ročník Neslýchaně zábavného večera jehož součástí je již tradičně i skupina Hands Dance. Večer pořádá Poradenské centrum pro sluchově postižené Kroměříž\, o.p.s. v Domě kultury Kroměříž. Každoročně v něm účinkují zpěváci\, hudebníci\, tanečníci a moderuje jej Aleš Cibulka. \nLetos se na jevišti objeví Monika Absolonová\, Petra Janů\, Bořek Slezáček\, Václav Faltus\, jako již tradičně Karel Gott revival Morava\, bubeník Hanz Sedlář a děti ze skupiny Dance power Kroměříž. \nCelý večer včetně písní je tlumočen do českého znakového jazyka skupinou Hands Dance. \nVíce informací naleznete zde\, vstupenky zde. \nTak na neslyšenou!
URL:https://ds-oukej.cz/detail-akce/viii-neslychane-zabavny-vecer/
LOCATION:Dům kultury\, Tovačovského 2828\, Kroměříž\, 767 01
CATEGORIES:Uplynulé
END:VEVENT
BEGIN:VEVENT
DTSTART;TZID=Europe/Prague:20230922T090000
DTEND;TZID=Europe/Prague:20230922T150000
DTSTAMP:20260425T040828
CREATED:20231013T081217Z
LAST-MODIFIED:20231013T081217Z
UID:1644-1695373200-1695394800@ds-oukej.cz
SUMMARY:Mezinárodní den Neslyšících v Ostravě\, oslavy CSNN
DESCRIPTION:Divadelní spolek OUKEJ se zapojí představením Červená Karkulka do oslav Mezinárodního dne Neslyšících pořádaném Centrem služeb pro neslyšící a nedoslýchavé Ostrava. \nPředstavení proběhne na Zámku Poruba v Ostravě\, od 9:15. \nDalší informace naleznete zde. \nTěšíme se na dětské i dospělé diváky!
URL:https://ds-oukej.cz/detail-akce/mezinarodni-den-neslysicich-v-ostrave-oslavy-csnn/
LOCATION:zámek Poruba\, Nábř. Svazu Protifaš. bojovníků 60\, Ostrava 8\, 708 00
CATEGORIES:Uplynulé
END:VEVENT
BEGIN:VEVENT
DTSTART;TZID=Europe/Prague:20230916T120000
DTEND;TZID=Europe/Prague:20230916T120000
DTSTAMP:20260425T040828
CREATED:20230719T113713Z
LAST-MODIFIED:20231013T073435Z
UID:1590-1694865600-1694865600@ds-oukej.cz
SUMMARY:Múzy na Valech aneb Tržiště umění
DESCRIPTION:Divadelní spolek OUKEJ se letos po druhé zúčastní festivalu Múzy na Valech ve městě Nymburk. \nProgram je bohatý\, plný hudebních i divadelních vystoupení. Spolek OUKEJ vám přiveze Knižní představení a tlumočené písně do znakového jazyka v podání Hands Dance. Všechna vystoupení jsou rozmístěna po místech v historickém centru Nymburka na tzv Valech. \nTak se přijďte pobavit! \nPokud byste se chtěli naladit na atmosféru festivalu dopředu\, můžete se podívat na záznam z roku 2021 zde.
URL:https://ds-oukej.cz/detail-akce/muzy-na-valech-aneb-trziste-umeni/
LOCATION:Nymburk\, Malé Valy
CATEGORIES:Uplynulé
END:VEVENT
BEGIN:VEVENT
DTSTART;TZID=Europe/Prague:20230916T110000
DTEND;TZID=Europe/Prague:20230916T220000
DTSTAMP:20260425T040828
CREATED:20231013T074827Z
LAST-MODIFIED:20231013T075117Z
UID:1634-1694862000-1694901600@ds-oukej.cz
SUMMARY:Taška Fest 2023
DESCRIPTION:Skupina Hands Dance vystoupí s vybranými písněmi na festivalu TaškaFest. Festival trvá celý den\, a na bohatém programu se podílí mnoho skupin intaktních\, ale i třeba tvůrců s mentálním postižením a dalšími specifiky. Těšit se můžete na taneční skupiny\, film\, divadelní představení a v neposlední řadě i skupinu Hands Dance\, která vystoupí v 16:35. \nVíce informací zde. \nTak přijďte! \n \n 
URL:https://ds-oukej.cz/detail-akce/taska-fest-2023/
LOCATION:Hornický skanzen Mayrau\, Vinařice u Kladna 56\, Kladno\, 27307\, Česká republika
CATEGORIES:Uplynulé
END:VEVENT
BEGIN:VEVENT
DTSTART;TZID=Europe/Prague:20230906T100000
DTEND;TZID=Europe/Prague:20230906T180000
DTSTAMP:20260425T040828
CREATED:20230719T113124Z
LAST-MODIFIED:20231013T073159Z
UID:1579-1693994400-1694023200@ds-oukej.cz
SUMMARY:Neslýchaná akce
DESCRIPTION:Na náměstí Svobody v Brně se znovu postaví stánky\, kde budou svou činnost prezentovat organizace a spolky\, které spojují stejná témata jako je sluchové postižení\, jazyk a kultura Neslyšících. \nSamozřejmě tam budeme i my\, Divadelní spolek OUKEJ\, naše skupina Hands Dance a ve vedlejším stánku náš blízký Ateliér divadlo a výchova pro Neslyšící z DF JAMU. Můžete se těšit na Knižní představení\, tlumočené písně\, přednášky\, pobavit se s jednotlivými lidmi na stáncích a dát si kávu z pojízdné Tiché kavárny. \nCelá akce bude tlumočena mezi českým jazykem a českým znakovým jazykem. \nVíce informací najdete zde. \nRádi vás uvidíme.
URL:https://ds-oukej.cz/detail-akce/neslychana-akce/
LOCATION:náměstí Svobody\, Brno\, náměstí Svobody\, Brno-střed\, 602 00
CATEGORIES:Uplynulé
END:VEVENT
BEGIN:VEVENT
DTSTART;TZID=Europe/Prague:20230904T110000
DTEND;TZID=Europe/Prague:20230904T120000
DTSTAMP:20260425T040828
CREATED:20230719T112204Z
LAST-MODIFIED:20231106T084803Z
UID:1573-1693825200-1693828800@ds-oukej.cz
SUMMARY:Červená Karkulka - premiéra
DESCRIPTION:Divadelní spolek OUKEJ připravuje na první školní den dárek pro děti. Jde o premiéru nové inscenace pro děti\, která se uskuteční v divadle Barka v pondělí 4. září 2023 od 11:00. \nJedná se o nové knižní představení neslyšící herečky Veroniky Slámové\, která vám převypráví známou pohádku o Červené Karkulce. Nemusíte se bát\, že byste nerozuměli. Vyprávět bude především prostřednictvím pohybového divadla\, výrazných gest a mimiky a k tomu využije i svůj mateřský jazyk – tedy český znakový jazyk. Celé představení je koncipováno tak\, aby porozuměl opravdu každý. \nKnižní představení je koncept vytvořený v Ateliéru divadlo a výchova pro Neslyšící na DF JAMU v Brně. Divadelní spolek OUKEJ svou činností navazuje a úzce spolupracuje právě s ateliérem DVN. \nToto představení se koná za finanční podpory Městské části Brno Královo Pole a statutárního města Brna. \nVstupenky můžete rezervovat na rezervace@ds-oukej.cz \nFB událost a další informace naleznete zde.
URL:https://ds-oukej.cz/detail-akce/nova-inscenace-pro-deti-premiera/
LOCATION:Divadlo Barka\, Svatopluka Čecha 1405/35a\, Brno\, 612 00\, Česká republika
CATEGORIES:Uplynulé
END:VEVENT
BEGIN:VEVENT
DTSTART;VALUE=DATE:20230719
DTEND;VALUE=DATE:20230723
DTSTAMP:20260425T040828
CREATED:20230706T143359Z
LAST-MODIFIED:20231013T073249Z
UID:1547-1689724800-1690070399@ds-oukej.cz
SUMMARY:Colours of Ostrava
DESCRIPTION:Již počtvrté skupina Hands Dance vyrazí na mezinárodní multižánrový festival Colours of Ostrava\, kde společně s hosty bude tlumočit čtyři koncerty. \nNenechte si ujít tuto velkolepou akci ani vy! \nVíce informací včetně vstupenek naleznete zde\, případně v ČZJ v sekci Colours bez bariér či přímo na facebookové skupině Colours bez bariér.
URL:https://ds-oukej.cz/detail-akce/colours-of-ostrava/
LOCATION:Areál Dolní oblast Vítkovice – Ostrava\, Vítkovice 3004\, Ostrava\, 703 00
CATEGORIES:Uplynulé
END:VEVENT
BEGIN:VEVENT
DTSTART;TZID=Europe/Prague:20230705T190000
DTEND;TZID=Europe/Prague:20230705T210000
DTSTAMP:20260425T040828
CREATED:20230706T141633Z
LAST-MODIFIED:20230706T144048Z
UID:1542-1688583600-1688590800@ds-oukej.cz
SUMMARY:Posezení s Jaroslavem Duškem
DESCRIPTION:Zveme vás na akci „Večer s Jaroslavem Duškem“\, kde zazní i písně Dáši Ubrové a některé z nich budou tlumočené do českého znakového jazyka skupinou Hands Dance. Večer se koná ve středu 5. července od 19 hodin na farmě Pálava kousek od Mikulova. \nPřijďte a zároveň tak podpořte činnost Velvet Smile o.p.s.\nDalší informace a vstupenky zde  nebo na facebookové události zde .
URL:https://ds-oukej.cz/detail-akce/posezeni-s-jaroslavem-duskem/
CATEGORIES:Uplynulé
END:VEVENT
BEGIN:VEVENT
DTSTART;TZID=Europe/Prague:20230624T100000
DTEND;TZID=Europe/Prague:20230624T160000
DTSTAMP:20260425T040828
CREATED:20230706T141348Z
LAST-MODIFIED:20230706T144114Z
UID:1535-1687600800-1687622400@ds-oukej.cz
SUMMARY:Hvězdný den s Emilem
DESCRIPTION:Hvězdný den s Emilem se koná v rámci doprovodného programu 12. Evropských her handicapované mládeže Emil Open. \nPořadatel Nadační fond Emil si ve spolupráci se svými partnery připravil pro účastníky Emil Open a širokou veřejnost hvězdný den plný zábavy. \nSvůj program si pro návštěvníky této akce připraví také Divadelní spolek OUKEJ\, a skupina Hands Dance\, kterou DS OUKEJ zastřešuje. \nA na co vše se můžete těšit?\n● prezentace činnosti DS OUKEJ\n● prezentace aktivit umělecké skupiny Hands Dance\n● ukázka prstové abecedy a základů znakového jazyka\n● hry beze slov\n● knižní představení – ukázka knih\, úryvky pohádek hrané za pomoci pohybového divadla a prvků znakového jazyka\n● ukázky tlumočení do a z českého znakového jazyka\n● ukázka písní pro děti i dospělé ve znakovém jazyce \nVíce informací naleznete zde.
URL:https://ds-oukej.cz/detail-akce/hvezdny-den-s-emilem/
LOCATION:Hvězdárna a planetárium Brno\, Kraví hora 2\, Brno\, Jihomoravský kraj\, 60200\, Česká republika
CATEGORIES:Uplynulé
END:VEVENT
BEGIN:VEVENT
DTSTART;TZID=Europe/Prague:20230617T100000
DTEND;TZID=Europe/Prague:20230617T190000
DTSTAMP:20260425T040828
CREATED:20230605T070741Z
LAST-MODIFIED:20231013T073307Z
UID:1423-1686996000-1687028400@ds-oukej.cz
SUMMARY:Výročí Domova pro neslyšící v Brně
DESCRIPTION:V sobotu 17. června se bude slavit 100 let výročí od položení základního kamene Domova pro neslyšící v Brně na ulici Vodova. V 10 hodin se otevřou dveře Domova a v odpoledních hodinách se můžete těšit na vystoupení skupiny Hands Dance. Na své si přijdou i děti\, pro které budu připraveny hry a aktivity. Další informace naleznete zde.\nRádi se s vámi setkáme.
URL:https://ds-oukej.cz/detail-akce/vyroci-domova-pro-neslysici-v-brne/
LOCATION:Centrum Denních Služeb Pro Sluchově Postižené\, Vodova 1391\, Brno-Královo Pole\, Jihomoravský\, 612 00\, Česká republika
CATEGORIES:Uplynulé
END:VEVENT
END:VCALENDAR