BEGIN:VCALENDAR
VERSION:2.0
PRODID:-//OUKEJ divadelní spolek - ECPv6.15.13//NONSGML v1.0//EN
CALSCALE:GREGORIAN
METHOD:PUBLISH
X-ORIGINAL-URL:https://ds-oukej.cz
X-WR-CALDESC:Akce na OUKEJ divadelní spolek
REFRESH-INTERVAL;VALUE=DURATION:PT1H
X-Robots-Tag:noindex
X-PUBLISHED-TTL:PT1H
BEGIN:VTIMEZONE
TZID:Europe/Prague
BEGIN:DAYLIGHT
TZOFFSETFROM:+0100
TZOFFSETTO:+0200
TZNAME:CEST
DTSTART:20250330T010000
END:DAYLIGHT
BEGIN:STANDARD
TZOFFSETFROM:+0200
TZOFFSETTO:+0100
TZNAME:CET
DTSTART:20251026T010000
END:STANDARD
BEGIN:DAYLIGHT
TZOFFSETFROM:+0100
TZOFFSETTO:+0200
TZNAME:CEST
DTSTART:20260329T010000
END:DAYLIGHT
BEGIN:STANDARD
TZOFFSETFROM:+0200
TZOFFSETTO:+0100
TZNAME:CET
DTSTART:20261025T010000
END:STANDARD
BEGIN:DAYLIGHT
TZOFFSETFROM:+0100
TZOFFSETTO:+0200
TZNAME:CEST
DTSTART:20270328T010000
END:DAYLIGHT
BEGIN:STANDARD
TZOFFSETFROM:+0200
TZOFFSETTO:+0100
TZNAME:CET
DTSTART:20271031T010000
END:STANDARD
END:VTIMEZONE
BEGIN:VEVENT
DTSTART;TZID=Europe/Prague:20260420T100000
DTEND;TZID=Europe/Prague:20260420T113000
DTSTAMP:20260420T085139
CREATED:20260318T072514Z
LAST-MODIFIED:20260420T045244Z
UID:3311-1776679200-1776684600@ds-oukej.cz
SUMMARY:HRDINKY?!
DESCRIPTION:Životní příběh Helen Keller a Anne Sullivan. \nSpolečně nalezly cestu ze tmy a ticha. Jak? Helen Kellerová je hrdinkou nejen světa neslyšících\, ale také nevidomých. Byla spisovatelkou\, aktivistkou\, lektorkou a první hluchoslepou osobou\, která vystudovala Harvardovu univerzitu. Anna Sullivanová byla její životní průvodkyní a přítelkyní. Než je ale poznal celý svět\, byli divokou žačkou a tvrdohlavou učitelkou. \nDvě herečky\, z nichž jedna je neslyšící a druhá slyšící\, vám prostřednictvím pohybového divadla\, výtvarných prvků a v neposlední řadě s využitím českého znakového jazyka ukážou\, jak se nevidomá a neslyšící dívka dokázala naučit komunikovat. Představí vám svět života s postižením\, odlišné možnosti dorozumívání\, seznámí vás se znakovým jazykem či braillovým písmem. \nA třeba vás svou neuvěřitelnou silou vůle také inspirují k překonávání překážek a nepřízně osudu jakéhokoli druhu. \nInscenace vznikla na motivy knihy Jindry Jarošové Via lucis. \nInscenace vznikla za finanční podpory Statutárního města Brna\, městské části Brno – Královo Pole. Reprízy jsou realizovány za finanční podpory statutárního města Brna. \nRežie: Zoja Mikotová\, \nDramaturgie: Jana Ondrušová\, \nHrají: Veronika Slámová\, Šárka Šildová \nRezervace vstupenek: rezervace@ds-oukej.cz \nZákladní vstupné – 280\,- \nZlevněné vstupné – 180\,- \nVstupné pro školy – 150\,-
URL:https://ds-oukej.cz/detail-akce/hrdinky-14/
LOCATION:Divadlo Barka\, Svatopluka Čecha 1405/35a\, Brno\, 612 00\, Česká republika
CATEGORIES:Uplynulé
END:VEVENT
BEGIN:VEVENT
DTSTART;TZID=Europe/Prague:20260420T190000
DTEND;TZID=Europe/Prague:20260420T203000
DTSTAMP:20260420T085139
CREATED:20260318T072629Z
LAST-MODIFIED:20260420T045251Z
UID:3314-1776711600-1776717000@ds-oukej.cz
SUMMARY:HRDINKY?!
DESCRIPTION:Životní příběh Helen Keller a Anne Sullivan. \nSpolečně nalezly cestu ze tmy a ticha. Jak? Helen Kellerová je hrdinkou nejen světa neslyšících\, ale také nevidomých. Byla spisovatelkou\, aktivistkou\, lektorkou a první hluchoslepou osobou\, která vystudovala Harvardovu univerzitu. Anna Sullivanová byla její životní průvodkyní a přítelkyní. Než je ale poznal celý svět\, byli divokou žačkou a tvrdohlavou učitelkou. \nDvě herečky\, z nichž jedna je neslyšící a druhá slyšící\, vám prostřednictvím pohybového divadla\, výtvarných prvků a v neposlední řadě s využitím českého znakového jazyka ukážou\, jak se nevidomá a neslyšící dívka dokázala naučit komunikovat. Představí vám svět života s postižením\, odlišné možnosti dorozumívání\, seznámí vás se znakovým jazykem či braillovým písmem. \nA třeba vás svou neuvěřitelnou silou vůle také inspirují k překonávání překážek a nepřízně osudu jakéhokoli druhu. \nInscenace vznikla na motivy knihy Jindry Jarošové Via lucis. \nInscenace vznikla za finanční podpory Statutárního města Brna\, městské části Brno – Královo Pole. Reprízy jsou realizovány za finanční podpory statutárního města Brna. \nRežie: Zoja Mikotová\, \nDramaturgie: Jana Ondrušová\, \nHrají: Veronika Slámová\, Šárka Šildová \nRezervace vstupenek: rezervace@ds-oukej.cz \nZákladní vstupné – 280\,- \nZlevněné vstupné – 180\,- \nVstupné pro školy – 150\,-
URL:https://ds-oukej.cz/detail-akce/hrdinky-15/
LOCATION:Divadlo Barka\, Svatopluka Čecha 1405/35a\, Brno\, 612 00\, Česká republika
CATEGORIES:Uplynulé
END:VEVENT
END:VCALENDAR